BEGIN:VCALENDAR
VERSION:2.0
PRODID:-//Saint-Luc - ECPv6.6.3//NONSGML v1.0//EN
CALSCALE:GREGORIAN
METHOD:PUBLISH
X-ORIGINAL-URL:https://st-luc.cssdm.gouv.qc.ca
X-WR-CALDESC:évènements pour Saint-Luc
REFRESH-INTERVAL;VALUE=DURATION:PT1H
X-Robots-Tag:noindex
X-PUBLISHED-TTL:PT1H
BEGIN:VTIMEZONE
TZID:Europe/Paris
BEGIN:DAYLIGHT
TZOFFSETFROM:+0100
TZOFFSETTO:+0200
TZNAME:CEST
DTSTART:20240331T010000
END:DAYLIGHT
BEGIN:STANDARD
TZOFFSETFROM:+0200
TZOFFSETTO:+0100
TZNAME:CET
DTSTART:20241027T010000
END:STANDARD
BEGIN:DAYLIGHT
TZOFFSETFROM:+0100
TZOFFSETTO:+0200
TZNAME:CEST
DTSTART:20250330T010000
END:DAYLIGHT
BEGIN:STANDARD
TZOFFSETFROM:+0200
TZOFFSETTO:+0100
TZNAME:CET
DTSTART:20251026T010000
END:STANDARD
TZID:America/Toronto
BEGIN:DAYLIGHT
TZOFFSETFROM:-0500
TZOFFSETTO:-0400
TZNAME:EDT
DTSTART:20240310T070000
END:DAYLIGHT
BEGIN:STANDARD
TZOFFSETFROM:-0400
TZOFFSETTO:-0500
TZNAME:EST
DTSTART:20241103T060000
END:STANDARD
END:VTIMEZONE
BEGIN:VEVENT
DTSTART;TZID=Europe/Paris:20240826T080000
DTEND;TZID=Europe/Paris:20250623T170000
DTSTAMP:20260421T075237
CREATED:20210422T092610Z
LAST-MODIFIED:20240704T200516Z
UID:1623-1724659200-1750698000@st-luc.cssdm.gouv.qc.ca
SUMMARY:Calendrier scolaire
DESCRIPTION:Consulte le calendrier scolaire de cette année pour avoir tous les détails sur ton horaire des prochaines semaines et prochains mois !
URL:https://st-luc.cssdm.gouv.qc.ca/evenement/calendrier-scolaire/
END:VEVENT
BEGIN:VEVENT
DTSTART;TZID=America/Toronto:20241121T140000
DTEND;TZID=America/Toronto:20241121T163000
DTSTAMP:20260421T075237
CREATED:20241118T155300Z
LAST-MODIFIED:20241118T155300Z
UID:6339-1732197600-1732206600@st-luc.cssdm.gouv.qc.ca
SUMMARY:Rencontre de parents
DESCRIPTION:
URL:https://st-luc.cssdm.gouv.qc.ca/evenement/rencontre-de-parents-2/
LOCATION:École secondaire Saint-Luc
END:VEVENT
BEGIN:VEVENT
DTSTART;TZID=America/Toronto:20241121T180000
DTEND;TZID=America/Toronto:20241121T203000
DTSTAMP:20260421T075237
CREATED:20241118T155237Z
LAST-MODIFIED:20241118T155237Z
UID:6342-1732212000-1732221000@st-luc.cssdm.gouv.qc.ca
SUMMARY:Rencontre de parents
DESCRIPTION:
URL:https://st-luc.cssdm.gouv.qc.ca/evenement/rencontre-de-parents/
LOCATION:École secondaire Saint-Luc
END:VEVENT
END:VCALENDAR